BEGIN:VCALENDAR
VERSION:2.0
PRODID:-//Tukios.com/
BEGIN:VEVENT
UID:9ca4437b-eb69-478b-84d6-e14437bfef24@www.west-hurttfuneralhome.com
DTSTAMP:20260421T082052Z
DTSTART:20260428T160000Z
DTEND:20260428T170000Z
SUMMARY:Visitation
DESCRIPTION:
URL:https://www.west-hurttfuneralhome.com/obituaries/susan-holder
LOCATION: 217 S Hampton Rd  DeSoto TX 75115
GEO:32.5873785;-96.8574902
END:VEVENT
END:VCALENDAR